BEGIN:VCALENDAR
VERSION:2.0
PRODID:-//hacksw/handcal//NONSGML v1.0//EN
CALSCALE:GREGORIAN
BEGIN:VEVENT
DTEND:20061201T230000Z
UID:69e59f95276c8
DTSTAMP:20260420T043757Z
LOCATION:0 Berlin
DESCRIPTION:
URL;VALUE=URI:
SUMMARY:24.Winterlauf und -Walking Serie
DTSTART:20061201T230000Z
END:VEVENT
END:VCALENDAR
An internal server error occurred.