BEGIN:VCALENDAR
VERSION:2.0
PRODID:-//hacksw/handcal//NONSGML v1.0//EN
CALSCALE:GREGORIAN
BEGIN:VEVENT
DTEND:20061201T230000Z
UID:69e5e228ba851
DTSTAMP:20260420T092200Z
LOCATION:0 Forst/Lausitz
DESCRIPTION:
URL;VALUE=URI:
SUMMARY:50.Forster Neiße-Winterlauf
DTSTART:20061201T230000Z
END:VEVENT
END:VCALENDAR
An internal server error occurred.