BEGIN:VCALENDAR
VERSION:2.0
PRODID:-//hacksw/handcal//NONSGML v1.0//EN
CALSCALE:GREGORIAN
BEGIN:VEVENT
DTEND:20061125T230000Z
UID:69e54fb3d322f
DTSTAMP:20260419T225707Z
LOCATION:0 Mörfelden
DESCRIPTION:
URL;VALUE=URI:
SUMMARY:30. Mörfelder Winterlaufserie 06/07
DTSTART:20061125T230000Z
END:VEVENT
END:VCALENDAR
An internal server error occurred.