BEGIN:VCALENDAR
VERSION:2.0
PRODID:-//hacksw/handcal//NONSGML v1.0//EN
CALSCALE:GREGORIAN
BEGIN:VEVENT
DTEND:20061125T230000Z
UID:69ebe8604f634
DTSTAMP:20260424T230208Z
LOCATION:0 Berlin
DESCRIPTION:
URL;VALUE=URI:
SUMMARY:28. Berliner Mannschafts-Halbmarathon\, Halb-Viertelmarathon f. Jedermann
DTSTART:20061125T230000Z
END:VEVENT
END:VCALENDAR
An internal server error occurred.