BEGIN:VCALENDAR
VERSION:2.0
PRODID:-//hacksw/handcal//NONSGML v1.0//EN
CALSCALE:GREGORIAN
BEGIN:VEVENT
DTEND:20061118T230000Z
UID:69ed3dbd887e4
DTSTAMP:20260425T231837Z
LOCATION:0 Melchiorshausen
DESCRIPTION:
URL;VALUE=URI:
SUMMARY:Syke-Weyher Cross-Serie\, 63. Waldkater-Crosslauf
DTSTART:20061118T230000Z
END:VEVENT
END:VCALENDAR
An internal server error occurred.