BEGIN:VCALENDAR
VERSION:2.0
PRODID:-//hacksw/handcal//NONSGML v1.0//EN
CALSCALE:GREGORIAN
BEGIN:VEVENT
DTEND:20061117T230000Z
UID:69ed9395888c5
DTSTAMP:20260426T052453Z
LOCATION:0 Linnich
DESCRIPTION:
URL;VALUE=URI:
SUMMARY:SIG Combibloc 13. Rurbrücken-Volkslauf / 19. Waldlauf in Linnich
DTSTART:20061117T230000Z
END:VEVENT
END:VCALENDAR
An internal server error occurred.