BEGIN:VCALENDAR
VERSION:2.0
PRODID:-//hacksw/handcal//NONSGML v1.0//EN
CALSCALE:GREGORIAN
BEGIN:VEVENT
DTEND:20061104T230000Z
UID:69e58cf37dd83
DTSTAMP:20260420T031827Z
LOCATION:0 Krefeld
DESCRIPTION:
URL;VALUE=URI:
SUMMARY:35. Martinscrosslauf
DTSTART:20061104T230000Z
END:VEVENT
END:VCALENDAR
An internal server error occurred.