BEGIN:VCALENDAR
VERSION:2.0
PRODID:-//hacksw/handcal//NONSGML v1.0//EN
CALSCALE:GREGORIAN
BEGIN:VEVENT
DTEND:20061104T230000Z
UID:69ed287b5fecb
DTSTAMP:20260425T214755Z
LOCATION:0 Weyhe
DESCRIPTION:
URL;VALUE=URI:
SUMMARY:Syke-Weyher Cross-Serie / 102. Ellerbruch-Waldlauf
DTSTART:20061104T230000Z
END:VEVENT
END:VCALENDAR
An internal server error occurred.