BEGIN:VCALENDAR
VERSION:2.0
PRODID:-//hacksw/handcal//NONSGML v1.0//EN
CALSCALE:GREGORIAN
BEGIN:VEVENT
DTEND:20061103T230000Z
UID:69ed82451782d
DTSTAMP:20260426T041101Z
LOCATION:0 Augsburg-Bergheim
DESCRIPTION:
URL;VALUE=URI:
SUMMARY:"29. Winterlauf-Serie ""Südring-Bergheim"" (1) mit Stadtmeisterschaft im Waldlauf"
DTSTART:20061103T230000Z
END:VEVENT
END:VCALENDAR
An internal server error occurred.