BEGIN:VCALENDAR
VERSION:2.0
PRODID:-//hacksw/handcal//NONSGML v1.0//EN
CALSCALE:GREGORIAN
BEGIN:VEVENT
DTEND:20061028T230000Z
UID:69ed86f9b043a
DTSTAMP:20260426T043105Z
LOCATION:0 Köln
DESCRIPTION:
URL;VALUE=URI:
SUMMARY:2. Ronny Wöstmann Crossduathlon (laufen\, mtbiken\, laufen)
DTSTART:20061028T230000Z
END:VEVENT
END:VCALENDAR
An internal server error occurred.