BEGIN:VCALENDAR
VERSION:2.0
PRODID:-//hacksw/handcal//NONSGML v1.0//EN
CALSCALE:GREGORIAN
BEGIN:VEVENT
DTEND:20061028T230000Z
UID:69ebdf55f33f1
DTSTAMP:20260424T222333Z
LOCATION:0 Wiefelstede
DESCRIPTION:
URL;VALUE=URI:
SUMMARY:8. Wiefelsteder Winterlauf- und Wanderserie IV. 2006
DTSTART:20061028T230000Z
END:VEVENT
END:VCALENDAR
An internal server error occurred.