BEGIN:VCALENDAR
VERSION:2.0
PRODID:-//hacksw/handcal//NONSGML v1.0//EN
CALSCALE:GREGORIAN
BEGIN:VEVENT
DTEND:20061027T230000Z
UID:69ebf12297d98
DTSTAMP:20260424T233930Z
LOCATION:0 Ludwigschorgast
DESCRIPTION:
URL;VALUE=URI:
SUMMARY:20. Frankenwaldauf um den Preis der Kulmbacher Brauerei
DTSTART:20061027T230000Z
END:VEVENT
END:VCALENDAR
An internal server error occurred.