BEGIN:VCALENDAR
VERSION:2.0
PRODID:-//hacksw/handcal//NONSGML v1.0//EN
CALSCALE:GREGORIAN
BEGIN:VEVENT
DTEND:20061021T230000Z
UID:69ed41310db81
DTSTAMP:20260425T233321Z
LOCATION:0 Hamburg
DESCRIPTION:
URL;VALUE=URI:
SUMMARY:15. Bramfelder Jedermann / -frau-Lauf rund um den Bramfelder See
DTSTART:20061021T230000Z
END:VEVENT
END:VCALENDAR
An internal server error occurred.