BEGIN:VCALENDAR
VERSION:2.0
PRODID:-//hacksw/handcal//NONSGML v1.0//EN
CALSCALE:GREGORIAN
BEGIN:VEVENT
DTEND:20061020T230000Z
UID:69e4d36fe0e1e
DTSTAMP:20260419T140655Z
LOCATION:0 Jena
DESCRIPTION:
URL;VALUE=URI:
SUMMARY:30. Jenaer Kernberglauf
DTSTART:20061020T230000Z
END:VEVENT
END:VCALENDAR
An internal server error occurred.