BEGIN:VCALENDAR
VERSION:2.0
PRODID:-//hacksw/handcal//NONSGML v1.0//EN
CALSCALE:GREGORIAN
BEGIN:VEVENT
DTEND:20061014T230000Z
UID:69ec15835a067
DTSTAMP:20260425T021443Z
LOCATION:0 Gosheim
DESCRIPTION:
URL;VALUE=URI:
SUMMARY:17. Gosheimer - Lemberglauf und 9. Schüler u. Jugendlauf
DTSTART:20061014T230000Z
END:VEVENT
END:VCALENDAR
An internal server error occurred.