BEGIN:VCALENDAR
VERSION:2.0
PRODID:-//hacksw/handcal//NONSGML v1.0//EN
CALSCALE:GREGORIAN
BEGIN:VEVENT
DTEND:20061014T230000Z
UID:69ed520d044fd
DTSTAMP:20260426T004517Z
LOCATION:0 Schönbuch
DESCRIPTION:
URL;VALUE=URI:
SUMMARY:33. Schönbuchlauf - Der 25 km Herbstklassiker durch den Naturpark Schönbuch
DTSTART:20061014T230000Z
END:VEVENT
END:VCALENDAR
An internal server error occurred.