BEGIN:VCALENDAR
VERSION:2.0
PRODID:-//hacksw/handcal//NONSGML v1.0//EN
CALSCALE:GREGORIAN
BEGIN:VEVENT
DTEND:20061014T230000Z
UID:69ed3db6ebfed
DTSTAMP:20260425T231830Z
LOCATION:0 Gießen
DESCRIPTION:
URL;VALUE=URI:
SUMMARY:23. Gießener Volks- und Straßenlauf mit Walking u. Nordic-W.
DTSTART:20061014T230000Z
END:VEVENT
END:VCALENDAR
An internal server error occurred.