BEGIN:VCALENDAR
VERSION:2.0
PRODID:-//hacksw/handcal//NONSGML v1.0//EN
CALSCALE:GREGORIAN
BEGIN:VEVENT
DTEND:20061014T230000Z
UID:69ebc16e7d07c
DTSTAMP:20260424T201558Z
LOCATION:0 Baierbach
DESCRIPTION:
URL;VALUE=URI:
SUMMARY:22. Simseelauf und 3. Lauf z. Rosenh. Lauf-Cup
DTSTART:20061014T230000Z
END:VEVENT
END:VCALENDAR
An internal server error occurred.