BEGIN:VCALENDAR
VERSION:2.0
PRODID:-//hacksw/handcal//NONSGML v1.0//EN
CALSCALE:GREGORIAN
BEGIN:VEVENT
DTEND:20061006T230000Z
UID:69ed6bce4d500
DTSTAMP:20260426T023510Z
LOCATION:0 Leipzig
DESCRIPTION:
URL;VALUE=URI:
SUMMARY:"8. ""Reebok"" Stadtlauf des SC DHfK Leipzig/12. Lauf Lichtenauer Sachsen-Cup"
DTSTART:20061006T230000Z
END:VEVENT
END:VCALENDAR
An internal server error occurred.