BEGIN:VCALENDAR
VERSION:2.0
PRODID:-//hacksw/handcal//NONSGML v1.0//EN
CALSCALE:GREGORIAN
BEGIN:VEVENT
DTEND:20061002T230000Z
UID:69ec1dff94ecb
DTSTAMP:20260425T025055Z
LOCATION:0 Nürnberg
DESCRIPTION:
URL;VALUE=URI:
SUMMARY:11. Nürnberger Stadtlauf - Preis der Nürnberger Nachrichten
DTSTART:20061002T230000Z
END:VEVENT
END:VCALENDAR
An internal server error occurred.