BEGIN:VCALENDAR
VERSION:2.0
PRODID:-//hacksw/handcal//NONSGML v1.0//EN
CALSCALE:GREGORIAN
BEGIN:VEVENT
DTEND:20061002T230000Z
UID:69ed474ee5de2
DTSTAMP:20260425T235926Z
LOCATION:0 Horgau-Auerbach
DESCRIPTION:
URL;VALUE=URI:
SUMMARY:BezM. Berglauf Mittel- u. Nordschwaben - 10. Steineberglauf
DTSTART:20061002T230000Z
END:VEVENT
END:VCALENDAR
An internal server error occurred.