BEGIN:VCALENDAR
VERSION:2.0
PRODID:-//hacksw/handcal//NONSGML v1.0//EN
CALSCALE:GREGORIAN
BEGIN:VEVENT
DTEND:20050911T080000Z
UID:69ed9394b4ace
DTSTAMP:20260426T052452Z
LOCATION:3382 Loosdorf
DESCRIPTION:CBA ist der Verband für Rennsport mit Hund
URL;VALUE=URI:
SUMMARY:1. Österr. Canicross- /Bikejoering-Bewerb lt. CBA-Rennreglement
DTSTART:20050910T230000Z
END:VEVENT
END:VCALENDAR
An internal server error occurred.