BEGIN:VCALENDAR
VERSION:2.0
PRODID:-//hacksw/handcal//NONSGML v1.0//EN
CALSCALE:GREGORIAN
BEGIN:VEVENT
DTEND:20060430T090000Z
UID:69ed86f613d99
DTSTAMP:20260426T043102Z
LOCATION:1220 Wien
DESCRIPTION:
URL;VALUE=URI:
SUMMARY:Viennaman Kids Duathlon (neuer Termin vormals 14. Mai 06)
DTSTART:20060429T230000Z
END:VEVENT
END:VCALENDAR
An internal server error occurred.