BEGIN:VCALENDAR
VERSION:2.0
PRODID:-//hacksw/handcal//NONSGML v1.0//EN
CALSCALE:GREGORIAN
BEGIN:VEVENT
DTEND:20051231T130000Z
UID:69ed74a31d1e6
DTSTAMP:20260426T031251Z
LOCATION:3380 Pöchlarn
DESCRIPTION:Jeder Teilnehmer erhält einen gefüllten Startrucksack.

URL;VALUE=URI:
SUMMARY:FitLike Silvesterlauf in der Nibelungenstadt Pöchlarn
DTSTART:20051230T230000Z
END:VEVENT
END:VCALENDAR
An internal server error occurred.