BEGIN:VCALENDAR
VERSION:2.0
PRODID:-//hacksw/handcal//NONSGML v1.0//EN
CALSCALE:GREGORIAN
BEGIN:VEVENT
DTEND:20060430T090000Z
UID:69ebe8561e2c5
DTSTAMP:20260424T230158Z
LOCATION:7082 Donnerskirchen
DESCRIPTION:Österreichische Meisterschaft MASTERS
mit Mannschaftswertung
URL;VALUE=URI:
SUMMARY:10. Burgenland MIGHTYwoMAN - Austria Duathlon Cup - 
DTSTART:20060429T230000Z
END:VEVENT
END:VCALENDAR
An internal server error occurred.