BEGIN:VCALENDAR
VERSION:2.0
PRODID:-//hacksw/handcal//NONSGML v1.0//EN
CALSCALE:GREGORIAN
BEGIN:VEVENT
DTEND:20070602T090000Z
UID:69e6c9ed0b62a
DTSTAMP:20260421T015053Z
LOCATION:1220 Wien
DESCRIPTION:Sprint 0\,75/20/5km
3er-Staffel Sprint 0\,75/20/5km
HalbIronman 2/90/20km
URL;VALUE=URI:
SUMMARY:Hervis Viennaman Triathlon
DTSTART:20070601T230000Z
END:VEVENT
END:VCALENDAR
An internal server error occurred.