BEGIN:VCALENDAR
VERSION:2.0
PRODID:-//hacksw/handcal//NONSGML v1.0//EN
CALSCALE:GREGORIAN
BEGIN:VEVENT
DTEND:20060805T163000Z
UID:69ec03a5cf288
DTSTAMP:20260425T005829Z
LOCATION:9063 Maria Saal\, Herzogstuhl am Zollfeld
DESCRIPTION:Lauf zum Kärntner Berglaufcup
URL;VALUE=URI:
SUMMARY:9. ASV Maria Saal - Volkslauf auf den Ulrichsberg
DTSTART:20060804T230000Z
END:VEVENT
END:VCALENDAR
An internal server error occurred.