BEGIN:VCALENDAR
VERSION:2.0
PRODID:-//hacksw/handcal//NONSGML v1.0//EN
CALSCALE:GREGORIAN
BEGIN:VEVENT
DTEND:20060831T080000Z
UID:69ed0793894b7
DTSTAMP:20260425T192731Z
LOCATION:6675 Tannheim - Pertisau
DESCRIPTION:Ultraerlebnislauf in 4 Etappen
URL;VALUE=URI:
SUMMARY:5. Tiroler Wasserkraft Abenteuerlauf zum Achensee
DTSTART:20060830T230000Z
END:VEVENT
END:VCALENDAR
An internal server error occurred.