BEGIN:VCALENDAR
VERSION:2.0
PRODID:-//hacksw/handcal//NONSGML v1.0//EN
CALSCALE:GREGORIAN
BEGIN:VEVENT
DTEND:20060520T210000Z
UID:69ed7e6278f64
DTSTAMP:20260426T035426Z
LOCATION:6700 Dornbirn
DESCRIPTION:Veranstalter: Private Volksschule Altach mO - Laufbegeisterte Eltern
URL;VALUE=URI:
SUMMARY:12 Stunden Nachtlauf in Dornbirn / Messegelände
DTSTART:20060519T230000Z
END:VEVENT
END:VCALENDAR
An internal server error occurred.