BEGIN:VCALENDAR
VERSION:2.0
PRODID:-//hacksw/handcal//NONSGML v1.0//EN
CALSCALE:GREGORIAN
BEGIN:VEVENT
DTEND:20060225T090000Z
UID:69eb01818a712
DTSTAMP:20260424T063705Z
LOCATION:9020 Klagenfurt
DESCRIPTION:
URL;VALUE=URI:
SUMMARY:Klagenfurter Crosslaufmeisterschaften CSIT Cross WM 
DTSTART:20060224T230000Z
END:VEVENT
END:VCALENDAR
An internal server error occurred.