BEGIN:VCALENDAR
VERSION:2.0
PRODID:-//hacksw/handcal//NONSGML v1.0//EN
CALSCALE:GREGORIAN
BEGIN:VEVENT
DTEND:20060422T090000Z
UID:69ec0c4dd2b00
DTSTAMP:20260425T013525Z
LOCATION:3000 Gars/Kamp
DESCRIPTION:
URL;VALUE=URI:
SUMMARY:9. Garser Straßenlauf (Waldviertler Sparkassen Laufcup)
DTSTART:20060421T230000Z
END:VEVENT
END:VCALENDAR
An internal server error occurred.