BEGIN:VCALENDAR
VERSION:2.0
PRODID:-//hacksw/handcal//NONSGML v1.0//EN
CALSCALE:GREGORIAN
BEGIN:VEVENT
DTEND:20061118T230000Z
UID:69e4d36e9d996
DTSTAMP:20260419T140654Z
LOCATION:0 Berlin
DESCRIPTION:
URL;VALUE=URI:
SUMMARY:14. Kondius Berliner Marathon-Staffel
DTSTART:20061118T230000Z
END:VEVENT
END:VCALENDAR
An internal server error occurred.