BEGIN:VCALENDAR
VERSION:2.0
PRODID:-//hacksw/handcal//NONSGML v1.0//EN
CALSCALE:GREGORIAN
BEGIN:VEVENT
DTEND:20060701T090000Z
UID:69ed939a04e75
DTSTAMP:20260426T052458Z
LOCATION:4000 Spital Pyhrn
DESCRIPTION:
URL;VALUE=URI:
SUMMARY:7. Naturfreunde-Berglauf "Vom Hotel zur Hütte" Spital/Pyhrn
DTSTART:20060630T230000Z
END:VEVENT
END:VCALENDAR
An internal server error occurred.