BEGIN:VCALENDAR
VERSION:2.0
PRODID:-//hacksw/handcal//NONSGML v1.0//EN
CALSCALE:GREGORIAN
BEGIN:VEVENT
DTEND:20060923T130000Z
UID:69ed74a835173
DTSTAMP:20260426T031256Z
LOCATION:4563 Micheldorf
DESCRIPTION:
URL;VALUE=URI:
SUMMARY:18. Int. Raiffeisen Sport Rankl Strassenlauf Micheldorf 
DTSTART:20060922T230000Z
END:VEVENT
END:VCALENDAR
An internal server error occurred.