BEGIN:VCALENDAR
VERSION:2.0
PRODID:-//hacksw/handcal//NONSGML v1.0//EN
CALSCALE:GREGORIAN
BEGIN:VEVENT
DTEND:20060930T150000Z
UID:69ebf5efebfca
DTSTAMP:20260424T235959Z
LOCATION:9400 Wolfsberg
DESCRIPTION:
URL;VALUE=URI:
SUMMARY:22. Gigasport Lavanttaler Reisberglauf
DTSTART:20060929T230000Z
END:VEVENT
END:VCALENDAR
An internal server error occurred.