BEGIN:VCALENDAR
VERSION:2.0
PRODID:-//hacksw/handcal//NONSGML v1.0//EN
CALSCALE:GREGORIAN
BEGIN:VEVENT
DTEND:20061203T130000Z
UID:69ecf0715ed3b
DTSTAMP:20260425T174849Z
LOCATION:4551 Ried im Traunkreis
DESCRIPTION:
URL;VALUE=URI:
SUMMARY:13. Naturfreunde Krampuslauf Ried i. Traunkreis
DTSTART:20061202T230000Z
END:VEVENT
END:VCALENDAR
An internal server error occurred.