BEGIN:VCALENDAR
VERSION:2.0
PRODID:-//hacksw/handcal//NONSGML v1.0//EN
CALSCALE:GREGORIAN
BEGIN:VEVENT
DTEND:20060825T193000Z
UID:69eae0f6295a5
DTSTAMP:20260424T041814Z
LOCATION:10555 Berlin
DESCRIPTION:Laufen oder Skaten durch die City von Berlin. 
URL;VALUE=URI:
SUMMARY:5. Berliner Firmenlauf - Business Run u. Skate
DTSTART:20060824T230000Z
END:VEVENT
END:VCALENDAR
An internal server error occurred.