BEGIN:VCALENDAR
VERSION:2.0
PRODID:-//hacksw/handcal//NONSGML v1.0//EN
CALSCALE:GREGORIAN
BEGIN:VEVENT
DTEND:20060121T230000Z
UID:69ece2c703c30
DTSTAMP:20260425T165031Z
LOCATION:0 Wolfhagen- Ippinghausen
DESCRIPTION:
URL;VALUE=URI:
SUMMARY:13. Winterlaufserie des TSV Ippinghausen (3.Lauf)
DTSTART:20060121T230000Z
END:VEVENT
END:VCALENDAR
An internal server error occurred.