BEGIN:VCALENDAR
VERSION:2.0
PRODID:-//hacksw/handcal//NONSGML v1.0//EN
CALSCALE:GREGORIAN
BEGIN:VEVENT
DTEND:20060127T230000Z
UID:69eae973e9392
DTSTAMP:20260424T045427Z
LOCATION:0 Straelen
DESCRIPTION:
URL;VALUE=URI:
SUMMARY:8.Straelener Waldlauf Rund um Paesmühle
DTSTART:20060127T230000Z
END:VEVENT
END:VCALENDAR
An internal server error occurred.