BEGIN:VCALENDAR
VERSION:2.0
PRODID:-//hacksw/handcal//NONSGML v1.0//EN
CALSCALE:GREGORIAN
BEGIN:VEVENT
DTEND:20060203T230000Z
UID:69ec153b191dd
DTSTAMP:20260425T021331Z
LOCATION:0 Kaufering
DESCRIPTION:
URL;VALUE=URI:
SUMMARY:2. Lechpokal (2. Lauf am 18.02. nur Wertung beider Läufe
DTSTART:20060203T230000Z
END:VEVENT
END:VCALENDAR
An internal server error occurred.