BEGIN:VCALENDAR
VERSION:2.0
PRODID:-//hacksw/handcal//NONSGML v1.0//EN
CALSCALE:GREGORIAN
BEGIN:VEVENT
DTEND:20060217T230000Z
UID:69ed0792b7de1
DTSTAMP:20260425T192730Z
LOCATION:0 Kaufering
DESCRIPTION:
URL;VALUE=URI:
SUMMARY:2. Lechpokal (1. Lauf am 4.2.06- nur gemeinsame Wertung)
DTSTART:20060217T230000Z
END:VEVENT
END:VCALENDAR
An internal server error occurred.