BEGIN:VCALENDAR
VERSION:2.0
PRODID:-//hacksw/handcal//NONSGML v1.0//EN
CALSCALE:GREGORIAN
BEGIN:VEVENT
DTEND:20060304T230000Z
UID:69e9d0fa2524f
DTSTAMP:20260423T085746Z
LOCATION:0 Wittenburg
DESCRIPTION:
URL;VALUE=URI:
SUMMARY:19. Volkslauf Rund um die Wittenburger Mühle
DTSTART:20060304T230000Z
END:VEVENT
END:VCALENDAR
An internal server error occurred.