BEGIN:VCALENDAR
VERSION:2.0
PRODID:-//hacksw/handcal//NONSGML v1.0//EN
CALSCALE:GREGORIAN
BEGIN:VEVENT
DTEND:20060310T230000Z
UID:69eb5b1b160cf
DTSTAMP:20260424T125923Z
LOCATION:0 Rastatt-Rheinau
DESCRIPTION:
URL;VALUE=URI:
SUMMARY:16. Int. Volkslauf Rund um Mercedes Benz
DTSTART:20060310T230000Z
END:VEVENT
END:VCALENDAR
An internal server error occurred.