BEGIN:VCALENDAR
VERSION:2.0
PRODID:-//hacksw/handcal//NONSGML v1.0//EN
CALSCALE:GREGORIAN
BEGIN:VEVENT
DTEND:20060401T230000Z
UID:69eae97aa2f35
DTSTAMP:20260424T045434Z
LOCATION:0 Vorhelm
DESCRIPTION:
URL;VALUE=URI:
SUMMARY:14. Straßenlauf rund um die Wibbeltkapelle
DTSTART:20060401T230000Z
END:VEVENT
END:VCALENDAR
An internal server error occurred.