BEGIN:VCALENDAR
VERSION:2.0
PRODID:-//hacksw/handcal//NONSGML v1.0//EN
CALSCALE:GREGORIAN
BEGIN:VEVENT
DTEND:20060407T230000Z
UID:69eb5b17b77e1
DTSTAMP:20260424T125919Z
LOCATION:0 Wolfhagen
DESCRIPTION:
URL;VALUE=URI:
SUMMARY:18. Wolfhagener Volkslauf Rund um den Graner Berg
DTSTART:20060407T230000Z
END:VEVENT
END:VCALENDAR
An internal server error occurred.