BEGIN:VCALENDAR
VERSION:2.0
PRODID:-//hacksw/handcal//NONSGML v1.0//EN
CALSCALE:GREGORIAN
BEGIN:VEVENT
DTEND:20060407T230000Z
UID:69ecb8186d465
DTSTAMP:20260425T134824Z
LOCATION:0 Freital\, Weißeritzpark
DESCRIPTION:
URL;VALUE=URI:
SUMMARY:9.Lauf in den Frühling/4.Lauf Lichtenauer Sachsen Cup 2006
DTSTART:20060407T230000Z
END:VEVENT
END:VCALENDAR
An internal server error occurred.