BEGIN:VCALENDAR
VERSION:2.0
PRODID:-//hacksw/handcal//NONSGML v1.0//EN
CALSCALE:GREGORIAN
BEGIN:VEVENT
DTEND:20060408T230000Z
UID:69ed66556f9d6
DTSTAMP:20260426T021149Z
LOCATION:0 Stuttgart Vereinsgelände SKG Hedelfingen
DESCRIPTION:
URL;VALUE=URI:
SUMMARY:Rund um den Steinprügel. Wertungslauf Heart &Sole Cup\, Lauf Cup Stuttgart 2005
DTSTART:20060408T230000Z
END:VEVENT
END:VCALENDAR
An internal server error occurred.