BEGIN:VCALENDAR
VERSION:2.0
PRODID:-//hacksw/handcal//NONSGML v1.0//EN
CALSCALE:GREGORIAN
BEGIN:VEVENT
DTEND:20060421T230000Z
UID:69ed939b47c39
DTSTAMP:20260426T052459Z
LOCATION:0 Hamburg
DESCRIPTION:
URL;VALUE=URI:
SUMMARY:Das Zehntel für Kinder und Jugendliche zwischen 10 und 17 Jahren
DTSTART:20060421T230000Z
END:VEVENT
END:VCALENDAR
An internal server error occurred.