BEGIN:VCALENDAR
VERSION:2.0
PRODID:-//hacksw/handcal//NONSGML v1.0//EN
CALSCALE:GREGORIAN
BEGIN:VEVENT
DTEND:20060421T230000Z
UID:69ec33efba833
DTSTAMP:20260425T042431Z
LOCATION:0 Murr Gemeindehalle
DESCRIPTION:
URL;VALUE=URI:
SUMMARY:18.Murrer Volkslauf/1.Lauf Bottwartal-Kellerei-Cup
DTSTART:20060421T230000Z
END:VEVENT
END:VCALENDAR
An internal server error occurred.