BEGIN:VCALENDAR
VERSION:2.0
PRODID:-//hacksw/handcal//NONSGML v1.0//EN
CALSCALE:GREGORIAN
BEGIN:VEVENT
DTEND:20060422T230000Z
UID:69ed824bd2043
DTSTAMP:20260426T041107Z
LOCATION:0 Gerlingen Schillerhöhe
DESCRIPTION:
URL;VALUE=URI:
SUMMARY:21. Solitudelauf Gerlingen\, Wertungslauf zum Heart&Sole Cup 2006
DTSTART:20060422T230000Z
END:VEVENT
END:VCALENDAR
An internal server error occurred.